Workbook
Name OLE_LINK1: 'Organisational Psychology'!$C$3

Sheet Organisational Psychology
A1: Field of learning | B1: Areas | C1: Detailed activities | D1: Weeks | E1: Working days | F1: Days completed | G1: Days outstanding | H1: Percentage
A2: Organisational Psychology | B2: The intern will complete the activities for this module as follows:
B3: Organisational Design, Structure & Development | F3: =Graphs!C2 -> 0 | G3: =E3-F3 -> 0
B9: Organisational Culture & Climate
B16: Change Management
B22: Team Development
B25: Organisational Effectiveness (Motivation & Work Satisfaction)
B31: Ethics | C31: Share reflections during supervision conversations on how ethical dimensions, challenges and implications have been considered in the activities of this module

Sheet Human Resource Psychology
A1: Field of learning | B1: Areas | C1: Detailed activities | E1: Weeks | F1: Working days | G1: Days completed | H1: Days outstanding | I1: Percentage
A2: Human Resource (Personnel) Psychology | B2: The intern will complete the activities for this module in a Humana Resource department as follows:
B3: Human Resource Staffing – (job analysis, recruitment & selection) | G3: =Graphs!C3 -> 0 | H3: =F3-G3 -> 0
B4: Training & Development
B8: Employee Compensation (Remuneration & Grading)
B18: Contemporary issues in HR Psychology (Personnel Administration)
B20: Employee Relations
B24: Assessment of Potential Performance & Appraisal
B29: Ethics | D29: Share reflections during supervision conversations on how ethical dimensions, challenges and implications have been considered in the activities of this module

Sheet Career Psychology & EAP
A1: Field of learning | B1: Areas | C1: Detailed activities | E1: Weeks | F1: Working days | G1: Days completed | H1: Days outstanding | I1: Percentage
A2: Career Psychology & Employee Wellness/Wellbeing | B2: The intern will complete the activities for this module in an Employee Wellness department as follows:
B3: Career Counselling & Guidance Interventions | G3: =Graphs!C4 -> 0 | H3: =F3-G3 -> 0
B11: Diagnosis of Workplace Related Psychopathology (Basic Counselling & Guidance)
B14: Physical & Psychological Challenges that Impact the Employee Wellness
B18: Ethics | D18: Share reflections during supervision conversations on how ethical dimensions, challenges and implications have been considered in the activities of this module.

Sheet Testing & Assessment
A1: Field of learning | B1: Areas | C1: Detailed activities | E1: Weeks | F1: Working days | G1: Days completed | H1: Days outstanding | I1: Percentage
A2: Testing and Assessment | B2: The intern will acquire knowledge and skill through observation, evaluation of and training in the organisation’s assessment practices and governing documentation as follows:
B3: Psychometrics | G3: =Graphs!C5 -> 0
B35: Assessment Centres
B42: Organisational Surveys
B45: Ethics | D45: Share reflections during supervision conversations on how ethical dimensions, challenges and implications have been considered in the activities of this module

Sheet Elective
A1: Field of learning | B1: Areas | C1: Detailed activities | E1: Weeks | F1: Working days | G1: Days completed | H1: Days outstanding | I1: Percentage
A2: Elective | B2: The intern will focus on one elective with the following activities:
B3: Elective?? | G3: =Graphs!C6 -> 0 | H3: =F3-G3 -> 0
B9: Research project??
B13: Ethics | D13: Share reflections on how ethical dimensions, challenges and implications have been considered in the activities of this module

Sheet Professional Ethics
A1: Field of learning | B1: Areas | C1: Detailed activities | E1: Weeks | F1: Working days | G1: Days completed | H1: Days outstanding | I1: Percentage
A2: Professional Ethics | B2: The aim of this module is and the programme as a whole is to equip the intern Industrial psychologist (I&OP) to practice in accordance with the principles set out in the HPCSA form 218.
B3: Professional Ethics | D3: Remember to include the ethics involved in each of the domains | G3: =Graphs!C7 -> 0 | H3: =F3-G3 -> 0

Sheet Professional Development
A1: Field of learning | B1: Areas | C1: Detailed activities | E1: Weeks | F1: Working days | G1: Days completed | H1: Days outstanding | I1: Percentage
A2: Professional Development | B2: The aim of this module (and the programme as a whole) is to equip the intern industrial psychologist to practice in accordance with continuous professional development practices
B3: Professional Development | D3: • Attend training and development workshops and webinars | H3: =F3-G3 -> 0
D4: • E-learning and research
D5: • Supervision - development and coaching
D6: Etc…..Please add in additional info where applicable

Sheet Leave
A1: Detailed activities | B1: Weeks | C1: Working days | D1: Leave taken | E1: Leave outstanding | F1: Percentage
A2: Leave | B2: =C2/5 -> 3 | C2: 15 | D2: =Graphs!C9 -> 0 | E2: =C2-D2 -> 15 | F2: 0.05

Sheet Calendar
A1: Date | B1: Field of Learning | C1: Area | D1: Activity | E1: Hours | F1: Quarter

Sheet Graphs
A1: Field of Learning | B1: Days Allocated | C1: Days Completed | D1: Percentage Completed
A2: Organisational Psychology
A3: Human Resource (Personnel) Psychology
A4: Career Psychology and Employee Wellness/Wellbeing
A5: Testing and Assessment
A6: Elective: ????
A7: Professional Ethics
A8: Professional Development
A9: Leave
A10: TOTAL
A37: Organisational Psychology | B37: Days Allocated | C37: Days Completed | D37: Percentage Completed
A38: Organisational Design, Structure & Development | B38: 40 | C38: =SUMIFS(Calendar!$E:$E,Calendar!$C:$C,$A38)/8 -> 0
A39: Organisational Culture & Climate | C39: =SUMIFS(Calendar!$E:$E,Calendar!$C:$C,$A39)/8 -> 0
A40: Change Management
A41: Team Development | C41: =SUMIFS(Calendar!$E:$E,Calendar!$C:$C,$A41)/8 -> 0
A42: Organisational Effectiveness (Motivation & Work Satisfaction) | C42: =SUMIFS(Calendar!$E:$E,Calendar!$C:$C,$A42)/8 -> 0
A43: Ethics (OP) | C43: =SUMIFS(Calendar!$E:$E,Calendar!$C:$C,$A43)/8 -> 0
A44: TOTAL | B44: =SUM(B38:B43) -> 40 | D44: =C44/B44 -> 0
A47: Human Resource (Personnel) Psychology | B47: Days Allocated | C47: Days Completed | D47: Percentage Completed
A48: Human Resource Staffing – (job analysis, recruitment & selection) | B48: 40 | C48: =SUMIFS(Calendar!$E:$E,Calendar!$C:$C,$A48)/8 -> 0 | D48: =(C48+C49+C50+C51+C52+C53+C54+C55)/B48 -> 0
A49: Training & Development | C49: =SUMIFS(Calendar!$E:$E,Calendar!$C:$C,$A49)/8 -> 0
A50: Employee Compensation (Remuneration & Grading) | C50: 0
A51: Contemporary Issues in HR Psychology (Personnel Administration) | C51: =SUMIFS(Calendar!$E:$E,Calendar!$C:$C,$A51)/8 -> 0
A52: Employee Relations | C52: =SUMIFS(Calendar!$E:$E,Calendar!$C:$C,$A52)/8 -> 0
A53: Assessment of Potential Performance & Appraisal | C53: =SUMIFS(Calendar!$E:$E,Calendar!$C:$C,$A53)/8 -> 0
A54: Ethics (HR) | C54: =SUMIFS(Calendar!$E:$E,Calendar!$C:$C,$A54)/8 -> 0
C55: =SUMIFS(Calendar!$E:$E,Calendar!$C:$C,$A55)/8 -> 0
A56: TOTAL | B56: =SUM(B48:B55) -> 40 | C56: =SUM(C48:C55) -> 0 | D56: =C56/B56 -> 0
A59: Career Psychology and Employee Wellness/Wellbeing | B59: Days Allocated | C59: Days Completed | D59: Percentage Completed
A60: Career Counselling & Guidance Interventions | B60: 40 | C60: 0 | D60: =(C60+C61+C63)/B60 -> 0
A61: Diagnosis of Workplace Related Psychopathology (Basic Counselling & Guidance) | C61: =SUMIFS(Calendar!$E:$E,Calendar!$C:$C,$A61)/8 -> 0
A62: Physical & Psychological Challenges that Impact the Employee Wellness (Employee Wellbeing & Wellness) | C62: 0
A63: Ethics (CP & EW) | C63: =SUMIFS(Calendar!$E:$E,Calendar!$C:$C,$A63)/8 -> 0
A64: TOTAL | B64: =SUM(B60:B63) -> 40 | C64: =SUM(C60:C63) -> 0 | D64: =C64/B64 -> 0
A67: Testing and Assessment | B67: Days Allocated | C67: Days Completed | D67: Percentage Completed
A68: Psychometrics | B68: 50 | C68: 0 | D68: =(C68+C69+C70+C71+C72+C73)/B68 -> 0
A69: Assessments Centres | C69: =SUMIFS(Calendar!$E:$E,Calendar!$C:$C,$A69)/8 -> 0
A70: Validity of Assessments | C70: =SUMIFS(Calendar!$E:$E,Calendar!$C:$C,$A70)/8 -> 0
A71: Organisationsal Surveys | C71: =SUMIFS(Calendar!$E:$E,Calendar!$C:$C,$A71)/8 -> 0
A72: Ethics (T&A) | C72: =SUMIFS(Calendar!$E:$E,Calendar!$C:$C,#REF!)/8 -> 0
...

Sheet Selections
A1: Career Psychology and Employee Wellness/Wellbeing | B1: Selections!$C$2:$C$4 | C1: Career Psychology and Employee Wellness/Wellbeing | D1: Elective | E1: Human Resource (Personnel) Psychology | F1: Leave | G1: Organisational Psychology | H1: Professional Ethics | I1: Testing and Assessment | J1: Weekend | L1: 1
A2: Elective | B2: Selections!$d$2:$d$4 | C2: Employee Wellness | D2: A diagnostic and intervention based research project | E2: Governance | F2: Leave | G2: Organisational Design & Structure | H2: Professional Ethics | I2: Assessment Value Chain | J2: Weekend | L2: 2
A3: Human Resource (Personnel) Psychology | B3: Selections!$e$2:$e$9 | C3: Career Counselling | D3: Professional development activities and research | E3: Human Resource Staffing – (job analysis, recruitment & selection) | G3: Managerial Psychology | I3: Psychometric Testing Contexts | L3: 3
A4: Leave | B4: Selections!$f$2:$f$2 | C4: Ethics (CP & EW) | D4: Ethics (Elective) | E4: Employee Compensation | G4: Group Functioning & Effectiveness | I4: List Of Tests to be Used | L4: 4
A5: Organisational Psychology | B5: Selections!$g$2:$g$7 | E5: Performance Management and Appraisal | G5: Organisational Culture & Climate | I5: Statistics
A6: Professional Ethics | B6: Selections!$h$2:$h$2 | E6: Employee Relations | G6: Organisational change, Organisational Development and Organisational Effectiveness | I6: Other Assessments
A7: Testing and Assessment | B7: Selections!$i$2:$i$7 | E7: Human Resource Development | G7: Ethics (OP) | I7: Ethics (T&A)
A8: Weekend | B8: Selections!$j$2:$j$2 | E8: Contemporary Issues in Human Resource Psychology with focus on Talent Management
E9: Ethics (HR)
